BEGIN:VCALENDAR
VERSION:2.0
PRODID:-//Squarespace Inc/Squarespace 6//v6//EN
BEGIN:VEVENT
UID:538c4b44e4b08a7d4a553bef@squarespace.com
DTSTAMP:20140602T100128Z
DTSTART:20140704T020000Z
DTEND:20140704T040000Z
SUMMARY:The Mall\, Little Malop Street\, Central Geelong
END:VEVENT
END:VCALENDAR
