BEGIN:VCALENDAR
VERSION:2.0
PRODID:-//Squarespace Inc/Squarespace 6//v6//EN
BEGIN:VEVENT
UID:53d19ccbe4b0273d5d1750ed@squarespace.com
DTSTAMP:20140725T000012Z
DTSTART:20140823T100000Z
DTEND:20140823T130000Z
SUMMARY:Saints & Sailors\, Portarlington
END:VEVENT
END:VCALENDAR
