BEGIN:VCALENDAR
VERSION:2.0
PRODID:-//Squarespace Inc/Squarespace 6//v6//EN
BEGIN:VEVENT
UID:53d19e39e4b0b3ab1483f660@squarespace.com
DTSTAMP:20140731T111121Z
DTSTART:20140828T090000Z
DTEND:20140828T120000Z
SUMMARY:CAFE MARITANA\, Barwon Heads
END:VEVENT
END:VCALENDAR
