BEGIN:VCALENDAR
VERSION:2.0
PRODID:-//Squarespace Inc/Squarespace 6//v6//EN
BEGIN:VEVENT
UID:539e5063e4b0d840eaeb7c50@squarespace.com
DTSTAMP:20140616T020612Z
DTSTART:20140718T010000Z
DTEND:20140718T030000Z
SUMMARY:The Mall\, Little Malop Street\, Central Geelong
END:VEVENT
END:VCALENDAR
