BEGIN:VCALENDAR
VERSION:2.0
PRODID:-//Squarespace Inc/Squarespace 6//v6//EN
BEGIN:VEVENT
UID:538c4b87e4b0ed28e032f028@squarespace.com
DTSTAMP:20140602T100206Z
DTSTART:20140711T020000Z
DTEND:20140711T040000Z
SUMMARY:The Mall\, Little Malop Street\, Central Geelong
END:VEVENT
END:VCALENDAR
