BEGIN:VCALENDAR
VERSION:2.0
PRODID:-//Squarespace Inc/Squarespace 6//v6//EN
BEGIN:VEVENT
UID:53574267e4b08b5970d6a39b@squarespace.com
DTSTAMP:20140602T100137Z
DTSTART:20140606T020000Z
DTEND:20140606T040000Z
SUMMARY:The Mall\, Little Malop Street\, Central Geelong
END:VEVENT
END:VCALENDAR
