BEGIN:VCALENDAR
VERSION:2.0
PRODID:-//Squarespace Inc/Squarespace 6//v6//EN
BEGIN:VEVENT
UID:5357427be4b08b5970d6a3c0@squarespace.com
DTSTAMP:20140616T020301Z
DTSTART:20140620T020000Z
DTEND:20140620T040000Z
SUMMARY:RESCHEDULED - The Mall\, Little Malop Street\, Central Geelong
END:VEVENT
END:VCALENDAR
