BEGIN:VCALENDAR
VERSION:2.0
PRODID:-//Squarespace Inc/Squarespace 6//v6//EN
BEGIN:VEVENT
UID:53574225e4b0e57f31116b56@squarespace.com
DTSTAMP:20140423T043226Z
DTSTART:20140530T020000Z
DTEND:20140530T040000Z
SUMMARY:The Mall\, Little Malop Street\, Central Geelong
END:VEVENT
END:VCALENDAR
