BEGIN:VCALENDAR
VERSION:2.0
PRODID:-//Squarespace Inc/Squarespace 6//v6//EN
BEGIN:VEVENT
UID:53574200e4b0c0a73569d6e8@squarespace.com
DTSTAMP:20140423T043116Z
DTSTART:20140523T020000Z
DTEND:20140523T040000Z
SUMMARY:The Mall\, Little Malop Street\, Central Geelong
END:VEVENT
END:VCALENDAR
