BEGIN:VCALENDAR
VERSION:2.0
PRODID:-//Squarespace Inc/Squarespace 6//v6//EN
BEGIN:VEVENT
UID:535657ede4b0753f93e266af@squarespace.com
DTSTAMP:20140424T110417Z
DTSTART:20140509T020000Z
DTEND:20140509T040000Z
SUMMARY:The Mall\, Little Malop Street\, Central Geelong
END:VEVENT
END:VCALENDAR
