BEGIN:VCALENDAR
VERSION:2.0
PRODID:-//Squarespace Inc/Squarespace 6//v6//EN
BEGIN:VEVENT
UID:5357419ce4b0f52fccfc79d6@squarespace.com
DTSTAMP:20140424T110526Z
DTSTART:20140516T020000Z
DTEND:20140516T040000Z
SUMMARY:The Mall\, Little Malop Street\, Central Geelong
END:VEVENT
END:VCALENDAR
