BEGIN:VCALENDAR
VERSION:2.0
PRODID:-//Squarespace Inc/Squarespace 6//v6//EN
BEGIN:VEVENT
UID:5351fe77e4b03d041aafcba7@squarespace.com
DTSTAMP:20140423T043802Z
DTSTART:20140307T051500Z
DTEND:20140307T060000Z
SUMMARY:Ocean Grove Apple Fair
END:VEVENT
END:VCALENDAR
