BEGIN:VCALENDAR
VERSION:2.0
PRODID:-//Squarespace Inc/Squarespace 6//v6//EN
BEGIN:VEVENT
UID:549df69ae4b0d1a214aa5de9@squarespace.com
DTSTAMP:20141227T000220Z
DTSTART:20141219T063000Z
DTEND:20141219T093000Z
SUMMARY:Friday after Five - Little Malop Street\, Geelong
END:VEVENT
END:VCALENDAR
