BEGIN:VCALENDAR
VERSION:2.0
PRODID:-//Squarespace Inc/Squarespace 6//v6//EN
BEGIN:VEVENT
UID:549df61ae4b037c1970d40c1@squarespace.com
DTSTAMP:20141227T000230Z
DTSTART:20141212T063000Z
DTEND:20141212T093000Z
SUMMARY:Friday after Five - Little Malop Street\, Geelong
END:VEVENT
END:VCALENDAR
