BEGIN:VCALENDAR
VERSION:2.0
PRODID:-//Squarespace Inc/Squarespace 6//v6//EN
BEGIN:VEVENT
UID:543efd6be4b0c9fc7fdea9b0@squarespace.com
DTSTAMP:20141015T230539Z
DTSTART:20141108T083000Z
DTEND:20141108T091500Z
SUMMARY:Surf Coast Relay For Life
END:VEVENT
END:VCALENDAR
