BEGIN:VCALENDAR
VERSION:2.0
PRODID:-//Squarespace Inc/Squarespace 6//v6//EN
BEGIN:VEVENT
UID:541cd1d2e4b0f8281ceba1a5@squarespace.com
DTSTAMP:20141020T091719Z
DTSTART:20141107T003000Z
DTEND:20141107T033000Z
SUMMARY:Food Truck Fridays - Performance in Central Geelong
END:VEVENT
END:VCALENDAR
