BEGIN:VCALENDAR
VERSION:2.0
PRODID:-//Squarespace Inc/Squarespace 6//v6//EN
BEGIN:VEVENT
UID:549df4f9e4b0d1a214aa5957@squarespace.com
DTSTAMP:20141226T235741Z
DTSTART:20141129T234500Z
DTEND:20141130T004500Z
SUMMARY:Queenscliff Music Festival - leading the Tides of Welcome Choir
END:VEVENT
END:VCALENDAR
