BEGIN:VCALENDAR
VERSION:2.0
PRODID:-//Squarespace Inc/Squarespace 6//v6//EN
BEGIN:VEVENT
UID:541cd27de4b0a990b33d4531@squarespace.com
DTSTAMP:20140920T010702Z
DTSTART:20141121T010000Z
DTEND:20141121T030000Z
SUMMARY:The Mall Central Geelong Performance
END:VEVENT
END:VCALENDAR
