BEGIN:VCALENDAR
VERSION:2.0
PRODID:-//Squarespace Inc/Squarespace 6//v6//EN
BEGIN:VEVENT
UID:5403c36be4b02d1866673a4f@squarespace.com
DTSTAMP:20140901T005332Z
DTSTART:20141024T010000Z
DTEND:20141024T030000Z
SUMMARY:The Mall\, Little Malop Street\, Central Geelong
END:VEVENT
END:VCALENDAR
