BEGIN:VCALENDAR
VERSION:2.0
PRODID:-//Squarespace Inc/Squarespace 6//v6//EN
BEGIN:VEVENT
UID:541cd2d0e4b09b50ed9b6bed@squarespace.com
DTSTAMP:20140920T010619Z
DTSTART:20141010T080000Z
DTEND:20141010T110000Z
SUMMARY:Cafe Maritana\, Barwon Heads
END:VEVENT
END:VCALENDAR
